BEGIN:VCALENDAR
VERSION:2.0
BEGIN:VEVENT
SUMMARY:Fertility Uncovered – Free Fertility Webinar
DESCRIPTION:Free online fertility webinar by St. Ives Specialist Hospital
DTSTART:20260131T100000
DTEND:20260131T120000
LOCATION:Online (Instagram, Facebook & YouTube)
END:VEVENT
END:VCALENDAR
